BEGIN:VCALENDAR
VERSION:2.0
PRODID:-//Bonnyville FCSS - ECPv6.5.2//NONSGML v1.0//EN
CALSCALE:GREGORIAN
METHOD:PUBLISH
X-ORIGINAL-URL:https://bonnyvillecommunityservices.ca
X-WR-CALDESC:Events for Bonnyville FCSS
REFRESH-INTERVAL;VALUE=DURATION:PT1H
X-Robots-Tag:noindex
X-PUBLISHED-TTL:PT1H
BEGIN:VTIMEZONE
TZID:America/Edmonton
BEGIN:DAYLIGHT
TZOFFSETFROM:-0700
TZOFFSETTO:-0600
TZNAME:MDT
DTSTART:20240310T090000
END:DAYLIGHT
BEGIN:STANDARD
TZOFFSETFROM:-0600
TZOFFSETTO:-0700
TZNAME:MST
DTSTART:20241103T080000
END:STANDARD
END:VTIMEZONE
BEGIN:VEVENT
DTSTART;TZID=America/Edmonton:20240725T100000
DTEND;TZID=America/Edmonton:20240725T120000
DTSTAMP:20260421T035801
CREATED:20240628T162801Z
LAST-MODIFIED:20240628T162838Z
UID:3264-1721901600-1721908800@bonnyvillecommunityservices.ca
SUMMARY:Family Room- Fish Hunt
DESCRIPTION:Join us in the Family Room to connect with other parents and your child. \nJuly 25th activity is a Fish Hunt.
URL:https://bonnyvillecommunityservices.ca/event/family-room-fish-hunt/
LOCATION:Bonnyville FCSS\, 4714 48 Street\, Bonnyville\, Alberta\, T9N 2J7\, Canada
END:VEVENT
BEGIN:VEVENT
DTSTART;TZID=America/Edmonton:20240725T140000
DTEND;TZID=America/Edmonton:20240725T150000
DTSTAMP:20260421T035801
CREATED:20240715T214333Z
LAST-MODIFIED:20240715T214333Z
UID:3389-1721916000-1721919600@bonnyvillecommunityservices.ca
SUMMARY:LFRN- Triple P Tipsheet: Tantrums
DESCRIPTION:Tips for caregivers on how to manage tantrums and encourage positive behavior. \nWill be meeting at Pontiac Park at 4304 Lakeshore Drive \nTo register call 780-826-2120 or email frnspoke@town.bonnyville.ab.ca
URL:https://bonnyvillecommunityservices.ca/event/lfrn-triple-p-tipsheet-tantrums/
LOCATION:Pontiac Park\, 4304 Lakeshore Drive\, Bonnyville\, Alberta\, Canada
END:VEVENT
END:VCALENDAR